BEGIN:VCALENDAR
VERSION:2.0
PRODID:-//TMA Bucks - ECPv5.2.1//NONSGML v1.0//EN
CALSCALE:GREGORIAN
METHOD:PUBLISH
X-WR-CALNAME:TMA Bucks
X-ORIGINAL-URL:https://www.tmabucks.com
X-WR-CALDESC:Events for TMA Bucks
BEGIN:VTIMEZONE
TZID:UTC
BEGIN:STANDARD
TZOFFSETFROM:+0000
TZOFFSETTO:+0000
TZNAME:UTC
DTSTART:20230101T000000
END:STANDARD
END:VTIMEZONE
BEGIN:VEVENT
DTSTART;VALUE=DATE:20230918
DTEND;VALUE=DATE:20230923
DTSTAMP:20260420T083144
CREATED:20230906T150613Z
LAST-MODIFIED:20230906T150613Z
UID:4846-1694995200-1695427199@www.tmabucks.com
SUMMARY:National Transportation Demand Management (TDM) Week
DESCRIPTION:September 18 – 22 is National Transportation Demand Management (TDM) Week. \nTDM Week is designed to raise awareness of the importance of safe and reliable travel options for all users in the transportation planning process and to encourage employers to adopt TDM practices that help reduce the carbon footprint of their employees’ commutes. TDM strategies may include employee subsidies for the use of transit and vanpools\, preferred parking for carpoolers\, flextime\, telecommuting\, and similar measures. These benefits can help businesses and local governments compete for talent\, reduce roadway demand during peak hours\, and help make our communities cleaner and greener.
URL:https://www.tmabucks.com/event/national-transportation-demand-management-tdm-week/
ATTACH;FMTTYPE=image/jpeg:https://www.tmabucks.com/wp-content/uploads/2023/09/sd_tp34g.jpg
END:VEVENT
END:VCALENDAR